BEGIN:VCALENDAR
VERSION:2.0
PRODID:-//Blaskapelle FF H&ouml;tzdorf - ECPv6.15.20//NONSGML v1.0//EN
CALSCALE:GREGORIAN
METHOD:PUBLISH
X-ORIGINAL-URL:https://blaskapelle-hoetzdorf.de
X-WR-CALDESC:Veranstaltungen für Blaskapelle FF H&ouml;tzdorf
REFRESH-INTERVAL;VALUE=DURATION:PT1H
X-Robots-Tag:noindex
X-PUBLISHED-TTL:PT1H
BEGIN:VTIMEZONE
TZID:Europe/Berlin
BEGIN:DAYLIGHT
TZOFFSETFROM:+0100
TZOFFSETTO:+0200
TZNAME:CEST
DTSTART:20220327T010000
END:DAYLIGHT
BEGIN:STANDARD
TZOFFSETFROM:+0200
TZOFFSETTO:+0100
TZNAME:CET
DTSTART:20221030T010000
END:STANDARD
BEGIN:DAYLIGHT
TZOFFSETFROM:+0100
TZOFFSETTO:+0200
TZNAME:CEST
DTSTART:20230326T010000
END:DAYLIGHT
BEGIN:STANDARD
TZOFFSETFROM:+0200
TZOFFSETTO:+0100
TZNAME:CET
DTSTART:20231029T010000
END:STANDARD
BEGIN:DAYLIGHT
TZOFFSETFROM:+0100
TZOFFSETTO:+0200
TZNAME:CEST
DTSTART:20240331T010000
END:DAYLIGHT
BEGIN:STANDARD
TZOFFSETFROM:+0200
TZOFFSETTO:+0100
TZNAME:CET
DTSTART:20241027T010000
END:STANDARD
BEGIN:DAYLIGHT
TZOFFSETFROM:+0100
TZOFFSETTO:+0200
TZNAME:CEST
DTSTART:20250330T010000
END:DAYLIGHT
BEGIN:STANDARD
TZOFFSETFROM:+0200
TZOFFSETTO:+0100
TZNAME:CET
DTSTART:20251026T010000
END:STANDARD
BEGIN:DAYLIGHT
TZOFFSETFROM:+0100
TZOFFSETTO:+0200
TZNAME:CEST
DTSTART:20260329T010000
END:DAYLIGHT
BEGIN:STANDARD
TZOFFSETFROM:+0200
TZOFFSETTO:+0100
TZNAME:CET
DTSTART:20261025T010000
END:STANDARD
BEGIN:DAYLIGHT
TZOFFSETFROM:+0100
TZOFFSETTO:+0200
TZNAME:CEST
DTSTART:20270328T010000
END:DAYLIGHT
BEGIN:STANDARD
TZOFFSETFROM:+0200
TZOFFSETTO:+0100
TZNAME:CET
DTSTART:20271031T010000
END:STANDARD
END:VTIMEZONE
BEGIN:VEVENT
DTSTART;TZID=Europe/Berlin:20260411T193000
DTEND;TZID=Europe/Berlin:20260411T220000
DTSTAMP:20260420T175406
CREATED:20260120T113253Z
LAST-MODIFIED:20260120T113253Z
UID:10761-1775935800-1775944800@blaskapelle-hoetzdorf.de
SUMMARY:Frühjahrskonzert der Blaskapelle FF Hötzdorf 2026
DESCRIPTION:Die Blaskapelle der FF Hötzdorf lädt alle Freunde der Blasmusik recht herzlich zum Frühlingskonzert in der Schulaula Hutthurm ein. \n  \nDie Musiker*Innen bieten wieder ein sehr abwechslungsreiches Programm mit konzertanter\, traditioneller und moderner Blasmusik an.
URL:https://blaskapelle-hoetzdorf.de/event/fruehjahrskonzert-der-blaskapelle-ff-hoetzdorf-2026/
LOCATION:Schulaula der Mittelschule Hutthurm\, Schulstraße 7\, Hutthurm\, 94116
CATEGORIES:Auftritte
ATTACH;FMTTYPE=image/jpeg:https://blaskapelle-hoetzdorf.de/wp-content/uploads/2026/01/DSC00761-scaled.jpg
END:VEVENT
BEGIN:VEVENT
DTSTART;TZID=Europe/Berlin:20260222T100000
DTEND;TZID=Europe/Berlin:20260222T133000
DTSTAMP:20260420T175406
CREATED:20260120T112903Z
LAST-MODIFIED:20260120T112903Z
UID:10756-1771754400-1771767000@blaskapelle-hoetzdorf.de
SUMMARY:50 Jahre Jubiläumskirche + Musikalischer Frühschoppen Blaskapelle der FF Hötzdorf
DESCRIPTION:Jubiläumsgottdienst zum 50 Jährigen Fest der Blaskapelle  \n\nMusikalischer Frühschoppen mit der Blaskapelle FF Hötzdorf und ihren Jungmusiker*innen im Gasthaus Wagner Hutthurm \n  \n10:00 Uhr Jubiläumskirche zum 50-jährigen Jubiläum der Blaskapelle der FF Hötzdorf mit Amt für verstorbene Mitglieder in der Pfarrkirche St. Martin Hutthurm \n\n11:00 Uhr Frühschoppen im Gasthaus Wagner in Hutthurm mit traditioneller und moderner Blasmusik
URL:https://blaskapelle-hoetzdorf.de/event/50-jahre-jubilaeumskirche-musikalischer-fruehschoppen-blaskapelle-der-ff-hoetzdorf/
LOCATION:Gasthaus Wagner\, Marktplatz 3\, Hutthurm\, 94116
CATEGORIES:Auftritte
ATTACH;FMTTYPE=image/jpeg:https://blaskapelle-hoetzdorf.de/wp-content/uploads/2026/01/DSC00761-scaled.jpg
END:VEVENT
BEGIN:VEVENT
DTSTART;TZID=Europe/Berlin:20251003T140000
DTEND;TZID=Europe/Berlin:20251003T160000
DTSTAMP:20260420T175406
CREATED:20250114T143247Z
LAST-MODIFIED:20250114T143247Z
UID:10668-1759500000-1759507200@blaskapelle-hoetzdorf.de
SUMMARY:Standkonzert im  Obstlehrgarten Hutthurm 2025
DESCRIPTION:Am 03.10.2025 veranstalten wir mit den Gartenbauverein Hutthurm ein Standkonzert im Obstlehrgarten Hutthurm. \nFür das leibliche Wohl ist bestens gesorgt. \n  \nDer Gartenbauverein Hutthurm und die Blaskapelle FF Hötzdorf freuen sich auf Ihren Besuch.
URL:https://blaskapelle-hoetzdorf.de/event/standkonzert-im-obstlehrgarten-hutthurm-2025/
LOCATION:Obstlehrgarten Hutthurm
CATEGORIES:Auftritte
ATTACH;FMTTYPE=image/jpeg:https://blaskapelle-hoetzdorf.de/wp-content/uploads/2023/11/FDYQ9309-scaled.jpg
END:VEVENT
BEGIN:VEVENT
DTSTART;TZID=Europe/Berlin:20250426T200000
DTEND;TZID=Europe/Berlin:20250426T220000
DTSTAMP:20260420T175406
CREATED:20250114T142911Z
LAST-MODIFIED:20250425T200034Z
UID:10664-1745697600-1745704800@blaskapelle-hoetzdorf.de
SUMMARY:Frühjahrskonzert der Blaskapelle FF Hötzdorf 2025
DESCRIPTION:Die Blaskapelle der FF Hötzdorf lädt alle Freunde der Blasmusik recht herzlich zum Frühlingskonzert in der Schulaula Hutthurm ein. \nDie Musiker*Innen bieten wieder ein sehr abwechslungsreiches Programm mit konzertanter\, traditioneller und moderner Blasmusik an.
URL:https://blaskapelle-hoetzdorf.de/event/fruehjahrskonzert-der-blaskapelle-ff-hoetzdorf-2025/
LOCATION:Schulaula der Mittelschule Hutthurm\, Schulstraße 7\, Hutthurm\, 94116
CATEGORIES:Auftritte
ATTACH;FMTTYPE=image/jpeg:https://blaskapelle-hoetzdorf.de/wp-content/uploads/2023/11/FDYQ9309-scaled.jpg
END:VEVENT
BEGIN:VEVENT
DTSTART;TZID=Europe/Berlin:20250309T100000
DTEND;TZID=Europe/Berlin:20250309T130000
DTSTAMP:20260420T175406
CREATED:20250114T142657Z
LAST-MODIFIED:20250114T143011Z
UID:10659-1741514400-1741525200@blaskapelle-hoetzdorf.de
SUMMARY:Musikalischer Frühschoppen mit der Blaskapelle FF Hötzdorf im Gasthaus Wagner Hutthurm
DESCRIPTION:Musikalischer Frühschoppen mit der Blaskapelle FF Hötzdorf und ihren Jungmusiker*innen im Gasthaus Wagner Hutthurm \n  \n10:00 Uhr Kirche für verstorbene Mitglieder in in der Pfarrkirche St. Martin Hutthurm \n11:00 Uhr Frühschoppen im Gasthaus Wagner in Hutthurm
URL:https://blaskapelle-hoetzdorf.de/event/musikalischer-fruehschoppen-mit-der-blaskapelle-ff-hoetzdorf-im-gasthaus-wagner-hutthurm/
LOCATION:Gasthaus Wagner\, Marktplatz 3\, Hutthurm\, 94116
CATEGORIES:Auftritte
ATTACH;FMTTYPE=image/jpeg:https://blaskapelle-hoetzdorf.de/wp-content/uploads/2023/11/FDYQ9309-scaled.jpg
END:VEVENT
BEGIN:VEVENT
DTSTART;TZID=Europe/Berlin:20241003T140000
DTEND;TZID=Europe/Berlin:20241003T153000
DTSTAMP:20260420T175406
CREATED:20240410T053051Z
LAST-MODIFIED:20241001T145445Z
UID:10595-1727964000-1727969400@blaskapelle-hoetzdorf.de
SUMMARY:Abgesagt: Standkonzert im  Obstlehrgarten Hutthurm 2024
DESCRIPTION:Das Standkonzert wird aufgrund schlechter Witterung abgesagt! \n  \n  \n  \n  \n  \n  \nAm 03.10.2024 veranstalten wir mit den Gartenbauverein Kalteneck ein Standkonzert im Obstlehrgarten Hutthurm. Für das leibliche Wohl ist bestens gesorgt. Der Gartenbauverein Kalteneck und die Blaskapelle FF Hötzdorf freuen sich auf Ihren Besuch.
URL:https://blaskapelle-hoetzdorf.de/event/standkonzert-im-obstlehrgarten-hutthurm-2024/
LOCATION:Obstlehrgarten Hutthurm
CATEGORIES:Auftritte
END:VEVENT
BEGIN:VEVENT
DTSTART;TZID=Europe/Berlin:20240920T190000
DTEND;TZID=Europe/Berlin:20240920T213000
DTSTAMP:20260420T175406
CREATED:20240912T075950Z
LAST-MODIFIED:20240912T080115Z
UID:10620-1726858800-1726867800@blaskapelle-hoetzdorf.de
SUMMARY:Musikalischer Feierabend in Leoprechting
DESCRIPTION:Die Feuerwehr Leoprechting und die Blaskapelle FF Hötzdorf veranstalten gemeinsam einen musikalischen Feierabend. \nFür das leibliche Wohl ist bestens gesorgt. \nAuf Ihr Kommen freut sich die Blaskapelle und Feuerwehr Leoprechting.
URL:https://blaskapelle-hoetzdorf.de/event/musikalischer-feierabend-in-leoprechting/
LOCATION:Feuerwehr Leoprechting\, Burgstraße 2\, Hutthurm\, 94116
CATEGORIES:Auftritte
ATTACH;FMTTYPE=image/jpeg:https://blaskapelle-hoetzdorf.de/wp-content/uploads/2024/09/FDYQ9309-scaled.jpg
END:VEVENT
BEGIN:VEVENT
DTSTART;TZID=Europe/Berlin:20240714T140000
DTEND;TZID=Europe/Berlin:20240714T153000
DTSTAMP:20260420T175406
CREATED:20240410T052449Z
LAST-MODIFIED:20240410T052449Z
UID:10587-1720965600-1720971000@blaskapelle-hoetzdorf.de
SUMMARY:2. Rathauskonzert der Blaskapelle FF Hötzdorf
DESCRIPTION:Am 14. Juli 2024 gibt die Blaskapelle FF Hötzdorf ihr zweites Standkonzert am Rathausplatz in Passau. Auf Ihr Kommen freut sich die Blaskapelle!
URL:https://blaskapelle-hoetzdorf.de/event/2-rathauskonzert-der-blaskapelle-ff-hoetzdorf/
LOCATION:Rathausplatz Passau
CATEGORIES:Auftritte
END:VEVENT
BEGIN:VEVENT
DTSTART;TZID=Europe/Berlin:20240627T190000
DTEND;TZID=Europe/Berlin:20240627T220000
DTSTAMP:20260420T175406
CREATED:20240410T052749Z
LAST-MODIFIED:20240524T072119Z
UID:10591-1719514800-1719525600@blaskapelle-hoetzdorf.de
SUMMARY:Platzkonzert in Büchlberg
DESCRIPTION:Am 27.Juni 2024 spielt die Blaskapelle FF Hötzdorf das erste Mal ein Platzkonzert in Büchlberg. \nFür das leibliche Wohl ist gesorgt. \n  \nAuf Ihr Kommen freut sich die Blaskapelle.
URL:https://blaskapelle-hoetzdorf.de/event/platzkonzert-in-buechlberg/
LOCATION:Schule Büchlberg
CATEGORIES:Auftritte
END:VEVENT
BEGIN:VEVENT
DTSTART;TZID=Europe/Berlin:20240609T140000
DTEND;TZID=Europe/Berlin:20240609T153000
DTSTAMP:20260420T175406
CREATED:20240410T052258Z
LAST-MODIFIED:20240410T052258Z
UID:10580-1717941600-1717947000@blaskapelle-hoetzdorf.de
SUMMARY:Rathauskonzert der Blaskapelle FF Hötzdorf
DESCRIPTION:Am 09. Juni 2024 gibt die Blaskapelle FF Hötzdorf ein Standkonzert am Rathausplatz in Passau. \nAuf Ihr Kommen freut sich die Blaskapelle!
URL:https://blaskapelle-hoetzdorf.de/event/rathauskonzert-der-blaskapelle-ff-hoetzdorf/
LOCATION:Rathausplatz Passau
CATEGORIES:Auftritte
END:VEVENT
BEGIN:VEVENT
DTSTART;TZID=Europe/Berlin:20240406T200000
DTEND;TZID=Europe/Berlin:20240406T223000
DTSTAMP:20260420T175406
CREATED:20231123T085459Z
LAST-MODIFIED:20231123T085459Z
UID:10555-1712433600-1712442600@blaskapelle-hoetzdorf.de
SUMMARY:Frühjahrskonzert der Blaskapelle FF Hötzdorf
DESCRIPTION:Die Blaskapelle der FF Hötzdorf lädt alle Freunde der Blasmusik\, recht herzlich zum Frühlingskonzert ein. \nDie Musiker*Innen bieten wieder ein sehr abwechslungsreiches Programm mit konzertanter\, traditioneller und moderner Blasmusik an.
URL:https://blaskapelle-hoetzdorf.de/event/fruehjahrskonzert-der-blaskapelle-ff-hoetzdorf-2/
LOCATION:Schulaula der Mittelschule Hutthurm\, Schulstraße 7\, Hutthurm\, 94116
CATEGORIES:Auftritte
ATTACH;FMTTYPE=image/jpeg:https://blaskapelle-hoetzdorf.de/wp-content/uploads/2023/10/LLKH3593-1.jpg
END:VEVENT
BEGIN:VEVENT
DTSTART;TZID=Europe/Berlin:20240218T100000
DTEND;TZID=Europe/Berlin:20240218T133000
DTSTAMP:20260420T175406
CREATED:20231123T085016Z
LAST-MODIFIED:20240116T054606Z
UID:10552-1708250400-1708263000@blaskapelle-hoetzdorf.de
SUMMARY:Traditioneller Blasmusik-Frühschoppen nach der heiligen Messe
DESCRIPTION:Musikalischer Frühschoppen mit der Blaskapelle FF Hötzdorf und ihren JungmusikerInnen \n  \n10:00 Uhr Kirche für verstorbene Mitglieder in in der Pfarrkirche St. Martin Hutthurm \n11:00 Uhr Frühschoppen im Gasthaus Wagner in Hutthurm
URL:https://blaskapelle-hoetzdorf.de/event/traditioneller-blasmusik-fruehschoppen-nach-der-heiligen-messe/
LOCATION:Gasthaus Wagner\, Marktplatz 3\, Hutthurm\, 94116
CATEGORIES:Auftritte
ATTACH;FMTTYPE=image/jpeg:https://blaskapelle-hoetzdorf.de/wp-content/uploads/2023/10/HJQA3803.jpg
END:VEVENT
BEGIN:VEVENT
DTSTART;TZID=Europe/Berlin:20231003T140000
DTEND;TZID=Europe/Berlin:20231003T153000
DTSTAMP:20260420T175406
CREATED:20230503T133705Z
LAST-MODIFIED:20230503T133705Z
UID:10388-1696341600-1696347000@blaskapelle-hoetzdorf.de
SUMMARY:Standkonzert Obstlehrgarten Hutthurm
DESCRIPTION:Am 03.10.2023 veranstalten wir mit den Gartenbauverein Hutthurm ein Standkonzert im Obstlehrgarten Hutthurm. \nFür das leibliche Wohl ist bestens gesorgt. \nDer Gartenbauverein Hutthurm und die Blaskapelle FF Hötzdorf freuen Sich auf Ihr kommen. \n  \n 
URL:https://blaskapelle-hoetzdorf.de/event/standkonzert-obstlehrgarten-hutthurm/
CATEGORIES:Auftritte
END:VEVENT
BEGIN:VEVENT
DTSTART;TZID=Europe/Berlin:20231001T093000
DTEND;TZID=Europe/Berlin:20231001T170000
DTSTAMP:20260420T175406
CREATED:20230919T111542Z
LAST-MODIFIED:20230919T111714Z
UID:10526-1696152600-1696179600@blaskapelle-hoetzdorf.de
SUMMARY:Erntedankfest Hutthurm 01.10.2023
DESCRIPTION:
URL:https://blaskapelle-hoetzdorf.de/event/erntedankfest-hutthurm-01-10-2023/
LOCATION:Brauerei Hutthurm\, Marktplatz 5\, Hutthurm
CATEGORIES:Auftritte
END:VEVENT
BEGIN:VEVENT
DTSTART;TZID=Europe/Berlin:20230414T200000
DTEND;TZID=Europe/Berlin:20230414T223000
DTSTAMP:20260420T175406
CREATED:20230302T055158Z
LAST-MODIFIED:20230302T083455Z
UID:10325-1681502400-1681511400@blaskapelle-hoetzdorf.de
SUMMARY:Frühjahrskonzert der Blaskapelle FF Hötzdorf
DESCRIPTION:Die Blaskapelle der FF Hötzdorf lädt alle Freunde der Blasmusik\, recht herzlich zum Frühlingskonzert ein. \nDie Musiker*Innen bieten wieder ein sehr abwechslungsreiches Programm mit konzertanter\, traditioneller und moderner Blasmusik an.
URL:https://blaskapelle-hoetzdorf.de/event/fruehjahrskonzert-der-blaskapelle-ff-hoetzdorf/
LOCATION:Schulaula der Mittelschule Hutthurm\, Schulstraße 7\, Hutthurm\, 94116
CATEGORIES:Auftritte
END:VEVENT
BEGIN:VEVENT
DTSTART;TZID=Europe/Berlin:20230226T100000
DTEND;TZID=Europe/Berlin:20230226T130000
DTSTAMP:20260420T175406
CREATED:20230212T153954Z
LAST-MODIFIED:20230213T100532Z
UID:10158-1677405600-1677416400@blaskapelle-hoetzdorf.de
SUMMARY:Frühschoppen
DESCRIPTION:Beginn um 10 Uhr in der Kirche – Frühschoppen ab 11 Uhr
URL:https://blaskapelle-hoetzdorf.de/event/fruehschoppen/
LOCATION:Gasthaus Wagner\, Marktplatz 3\, Hutthurm\, 94116
CATEGORIES:Auftritte
END:VEVENT
BEGIN:VEVENT
DTSTART;TZID=Europe/Berlin:20230215T193000
DTEND;TZID=Europe/Berlin:20230215T220000
DTSTAMP:20260420T175406
CREATED:20230213T100216Z
LAST-MODIFIED:20230213T100707Z
UID:10239-1676489400-1676498400@blaskapelle-hoetzdorf.de
SUMMARY:Musikprobe
DESCRIPTION:
URL:https://blaskapelle-hoetzdorf.de/event/musikprobe/
LOCATION:Feuerwehrhaus Hötzdorf\, Hötzdorf 6\, Hutthurm\, 94116
CATEGORIES:Musikprobe
END:VEVENT
END:VCALENDAR